BEGIN:VCALENDAR
VERSION:2.0
PRODID:-//Mariëtte Hehakaya - ECPv6.15.18//NONSGML v1.0//EN
CALSCALE:GREGORIAN
METHOD:PUBLISH
X-WR-CALNAME:Mariëtte Hehakaya
X-ORIGINAL-URL:https://mariettehehakaya.com
X-WR-CALDESC:Evenementen voor Mariëtte Hehakaya
REFRESH-INTERVAL;VALUE=DURATION:PT1H
X-Robots-Tag:noindex
X-PUBLISHED-TTL:PT1H
BEGIN:VTIMEZONE
TZID:Europe/Amsterdam
BEGIN:DAYLIGHT
TZOFFSETFROM:+0100
TZOFFSETTO:+0200
TZNAME:CEST
DTSTART:20250330T010000
END:DAYLIGHT
BEGIN:STANDARD
TZOFFSETFROM:+0200
TZOFFSETTO:+0100
TZNAME:CET
DTSTART:20251026T010000
END:STANDARD
BEGIN:DAYLIGHT
TZOFFSETFROM:+0100
TZOFFSETTO:+0200
TZNAME:CEST
DTSTART:20260329T010000
END:DAYLIGHT
BEGIN:STANDARD
TZOFFSETFROM:+0200
TZOFFSETTO:+0100
TZNAME:CET
DTSTART:20261025T010000
END:STANDARD
BEGIN:DAYLIGHT
TZOFFSETFROM:+0100
TZOFFSETTO:+0200
TZNAME:CEST
DTSTART:20270328T010000
END:DAYLIGHT
BEGIN:STANDARD
TZOFFSETFROM:+0200
TZOFFSETTO:+0100
TZNAME:CET
DTSTART:20271031T010000
END:STANDARD
END:VTIMEZONE
BEGIN:VTIMEZONE
TZID:UTC
BEGIN:STANDARD
TZOFFSETFROM:+0000
TZOFFSETTO:+0000
TZNAME:UTC
DTSTART:20250101T000000
END:STANDARD
END:VTIMEZONE
BEGIN:VEVENT
DTSTART;VALUE=DATE:20260605
DTEND;VALUE=DATE:20260606
DTSTAMP:20260425T052823
CREATED:20260209T110734Z
LAST-MODIFIED:20260209T110734Z
UID:3316-1780617600-1780703999@mariettehehakaya.com
SUMMARY:MUSICA Dementia Concert
DESCRIPTION:Adres:\nHuis ter Weegen\nRijksstraatweg 158\nWarnsveld
URL:https://mariettehehakaya.com/concert/dementia-05062026/
LOCATION:Woonzorg Domus Valuas locatie – Huis Ter Weegen\, Rijksstraatweg 158\, Warnsveld\, 7231 AK
END:VEVENT
BEGIN:VEVENT
DTSTART;VALUE=DATE:20260605
DTEND;VALUE=DATE:20260606
DTSTAMP:20260425T052823
CREATED:20260209T110850Z
LAST-MODIFIED:20260209T110850Z
UID:3318-1780617600-1780703999@mariettehehakaya.com
SUMMARY:MUSICA Dementia Concert
DESCRIPTION:Adres:\nHuis Welgelegen\nMolenstraat 2\nWarnsveld
URL:https://mariettehehakaya.com/concert/dementia-05062026-warnsveld/
LOCATION:Woonzorg Domus Valuas locatie Huis Welgelegen\, Molenstraat 2\, Warnsveld\, 7231 GG
END:VEVENT
BEGIN:VEVENT
DTSTART;VALUE=DATE:20260607
DTEND;VALUE=DATE:20260608
DTSTAMP:20260425T052823
CREATED:20260209T111057Z
LAST-MODIFIED:20260209T111057Z
UID:3320-1780790400-1780876799@mariettehehakaya.com
SUMMARY:MUSICA Dementia Concert
DESCRIPTION:Adres:\nTusselerhof\nTusseler 115\nLochem
URL:https://mariettehehakaya.com/concert/dementia-07062026/
LOCATION:Tusselerhof\, Tusseler 115\, Lochem\, 7241 KD
END:VEVENT
BEGIN:VEVENT
DTSTART;VALUE=DATE:20260614
DTEND;VALUE=DATE:20260615
DTSTAMP:20260425T052823
CREATED:20260209T111158Z
LAST-MODIFIED:20260209T111158Z
UID:3322-1781395200-1781481599@mariettehehakaya.com
SUMMARY:MUSICA Dementia Concert
DESCRIPTION:Adres:\nMartha Flora\nRijksstraatweg 150\nTwello
URL:https://mariettehehakaya.com/concert/musica-dementia-concert/
LOCATION:Martha Flora Twello Particulier verzorgingstehuis Dementie\, Rijksstraatweg 150\, Twello\, 7391 MX
END:VEVENT
BEGIN:VEVENT
DTSTART;VALUE=DATE:20260620
DTEND;VALUE=DATE:20260621
DTSTAMP:20260425T052823
CREATED:20250402T063846Z
LAST-MODIFIED:20260420T102403Z
UID:1649-1781913600-1781999999@mariettehehakaya.com
SUMMARY:Concert Ruimte & Resonantie
DESCRIPTION:Datum: zaterdag 20 juni 2026Inloop: 19.15 uurAanvang concert: 20.00 uurLocatie: Walburgiskerk ’s-Gravenhof  Kerkhof 37201 DM Zutphen \nOp 20 juni 2026 geeft Mariëtte Hehakaya het concert Ruimte & Resonantie. Met dit belevingsconcert krijgt het drieluik zijn voltooiing\, als serie met; Tussen de zwarte en witte toetsen hoor je alle kleuren (2024) en Verbeelding in natuurlijke frequenties (2025). \nTijdens dit concert ontvouwt klank zich als een levende relatie tussen instrument\, ruimte en waarneming. Via de FAZIOLI-concertvleugel 308 ontstaat een muzikaal veld dat zich in de ruimte verbeeldt en fysiek wordt ervaren. \nVan J.S. Bach en A.C.W. Staring tot H. Zimmer klinken transcripties\, arrangementen en originele werken naast composities van Hehakaya\, waarin klank en kleur tot leven komen\,  een concert dat verbindt door een gedeelde ervaring. \nMariëtte Hehakaya debuteerde op 12-jarige leeftijd in een pianoconcert van W.A. Mozart\, waarna zij haar opleiding vervolgde aan ArtEZ en het Conservatorium van Amsterdam. Zij werd gevormd door onder anderen Martha Argerich- Köln\, Malcolm Frager en Marguerite Long- Parijs. Haar klankwereld raakt en blijft resoneren\, waarvoor zij werd onderscheiden met diverse prijzen en erkenningen\, nationaal en internationaal. \nHehakaya’s achtergrond\, ervaringen en synesthetische waarneming vormen de basis van haar muzikale diversiteit\, waarin concert en beleving samenvallen. \nSpecialGeïnspireerd door herinnering en natuur en in ontmoeting tussen jongeren en ouderen uit de zorg\, zijn deze woorden door Hehakaya vertaald in klankvolle composities voor dit concert. \nToegankelijkheidVoor speciale reserveringen en ondersteuning o.a. bij dementie\, Alzheimer of NAH\, neem contact op met: secretariaat@hehakaya.com \n			\n				Bestel hier jouw tickets
URL:https://mariettehehakaya.com/concert/concert-ruimte-en-resonantie/
LOCATION:Walburgiskerk\, Kerkhof 3\, Zutphen\, 7201DM
ATTACH;FMTTYPE=image/jpeg:https://mariettehehakaya.com/wp-content/uploads/2025/04/Header-Website-Mariette.jpg
END:VEVENT
BEGIN:VEVENT
DTSTART;VALUE=DATE:20260807
DTEND;VALUE=DATE:20260808
DTSTAMP:20260425T052823
CREATED:20260209T111342Z
LAST-MODIFIED:20260209T111342Z
UID:3324-1786060800-1786147199@mariettehehakaya.com
SUMMARY:MUSICA Dementia Concert
DESCRIPTION:Adres:\nHuis ter Weegen\nRijksstraatweg 158\nWarnsveld
URL:https://mariettehehakaya.com/concert/dementia-07082026/
LOCATION:Woonzorg Domus Valuas locatie – Huis Ter Weegen\, Rijksstraatweg 158\, Warnsveld\, 7231 AK
END:VEVENT
BEGIN:VEVENT
DTSTART;VALUE=DATE:20260807
DTEND;VALUE=DATE:20260808
DTSTAMP:20260425T052823
CREATED:20260209T113303Z
LAST-MODIFIED:20260209T113303Z
UID:3327-1786060800-1786147199@mariettehehakaya.com
SUMMARY:MUSICA Dementia Concert
DESCRIPTION:Adres:\nHuis Welgelegen\nMolenstraat 2\nWarnsveld
URL:https://mariettehehakaya.com/concert/musica-dementia-concert-07082026-warnsveld/
LOCATION:Woonzorg Domus Valuas locatie Huis Welgelegen\, Molenstraat 2\, Warnsveld\, 7231 GG
END:VEVENT
BEGIN:VEVENT
DTSTART;VALUE=DATE:20260823
DTEND;VALUE=DATE:20260824
DTSTAMP:20260425T052823
CREATED:20260209T113839Z
LAST-MODIFIED:20260209T113839Z
UID:3332-1787443200-1787529599@mariettehehakaya.com
SUMMARY:MUSICA Dementia Concert
DESCRIPTION:Adres:\nTusselerhof\nTusseler 115\nLochem
URL:https://mariettehehakaya.com/concert/dementia-23082026/
LOCATION:Tusselerhof\, Tusseler 115\, Lochem\, 7241 KD
END:VEVENT
BEGIN:VEVENT
DTSTART;VALUE=DATE:20260828
DTEND;VALUE=DATE:20260829
DTSTAMP:20260425T052823
CREATED:20260209T113950Z
LAST-MODIFIED:20260209T114000Z
UID:3334-1787875200-1787961599@mariettehehakaya.com
SUMMARY:MUSICA Dementia Concert
DESCRIPTION:Adres:\nVilla Molenenk\nLaan van Borgele 7\nDeventer
URL:https://mariettehehakaya.com/concert/dementia-28082026/
LOCATION:Woonzorg Domus Valuas locatie Villa Molenenk\, Laan van Borgele 7\, Deventer\, 7414 GS
END:VEVENT
BEGIN:VEVENT
DTSTART;VALUE=DATE:20260830
DTEND;VALUE=DATE:20260831
DTSTAMP:20260425T052823
CREATED:20260209T114058Z
LAST-MODIFIED:20260209T114058Z
UID:3336-1788048000-1788134399@mariettehehakaya.com
SUMMARY:MUSICA Dementia Concert
DESCRIPTION:Adres:\nMartha Flora\nRijksstraatweg 150\nTwello
URL:https://mariettehehakaya.com/concert/dementia-30082026/
LOCATION:Martha Flora Twello Particulier verzorgingstehuis Dementie\, Rijksstraatweg 150\, Twello\, 7391 MX
END:VEVENT
BEGIN:VEVENT
DTSTART;VALUE=DATE:20261002
DTEND;VALUE=DATE:20261003
DTSTAMP:20260425T052823
CREATED:20260209T114207Z
LAST-MODIFIED:20260209T114207Z
UID:3338-1790899200-1790985599@mariettehehakaya.com
SUMMARY:MUSICA Dementia Concert
DESCRIPTION:Adres:\nHuis ter Weegen\nRijksstraatweg 158\nWarnsveld
URL:https://mariettehehakaya.com/concert/dementia-02102026/
LOCATION:Woonzorg Domus Valuas locatie – Huis Ter Weegen\, Rijksstraatweg 158\, Warnsveld\, 7231 AK
END:VEVENT
BEGIN:VEVENT
DTSTART;VALUE=DATE:20261002
DTEND;VALUE=DATE:20261003
DTSTAMP:20260425T052823
CREATED:20260209T114304Z
LAST-MODIFIED:20260209T114304Z
UID:3340-1790899200-1790985599@mariettehehakaya.com
SUMMARY:MUSICA Dementia Concert
DESCRIPTION:Adres:\nHuis Welgelegen\nMolenstraat 2\nWarnsveld
URL:https://mariettehehakaya.com/concert/dementia-02102026-warnsveld/
LOCATION:Woonzorg Domus Valuas locatie Huis Welgelegen\, Molenstraat 2\, Warnsveld\, 7231 GG
END:VEVENT
BEGIN:VEVENT
DTSTART;VALUE=DATE:20261004
DTEND;VALUE=DATE:20261005
DTSTAMP:20260425T052823
CREATED:20260209T114358Z
LAST-MODIFIED:20260209T114358Z
UID:3342-1791072000-1791158399@mariettehehakaya.com
SUMMARY:MUSICA Dementia Concert
DESCRIPTION:Adres:\nTusselerhof\nTusseler 115\nLochem
URL:https://mariettehehakaya.com/concert/dementia-04102026/
LOCATION:Tusselerhof\, Tusseler 115\, Lochem\, 7241 KD
END:VEVENT
BEGIN:VEVENT
DTSTART;VALUE=DATE:20261025
DTEND;VALUE=DATE:20261026
DTSTAMP:20260425T052823
CREATED:20260209T114524Z
LAST-MODIFIED:20260209T114524Z
UID:3344-1792886400-1792972799@mariettehehakaya.com
SUMMARY:MUSICA Dementia Concert
DESCRIPTION:Adres:\nMartha Flora\nRijksstraatweg 150\nTwello
URL:https://mariettehehakaya.com/concert/dementia-25102026/
LOCATION:Martha Flora Twello Particulier verzorgingstehuis Dementie\, Rijksstraatweg 150\, Twello\, 7391 MX
END:VEVENT
BEGIN:VEVENT
DTSTART;VALUE=DATE:20261115
DTEND;VALUE=DATE:20261116
DTSTAMP:20260425T052823
CREATED:20260209T114622Z
LAST-MODIFIED:20260209T114622Z
UID:3346-1794700800-1794787199@mariettehehakaya.com
SUMMARY:MUSICA Dementia Concert
DESCRIPTION:Adres:\nTusselerhof\nTusseler 115\nLochem
URL:https://mariettehehakaya.com/concert/dementia-15112026/
LOCATION:Tusselerhof\, Tusseler 115\, Lochem\, 7241 KD
END:VEVENT
BEGIN:VEVENT
DTSTART;VALUE=DATE:20261127
DTEND;VALUE=DATE:20261128
DTSTAMP:20260425T052823
CREATED:20260209T114730Z
LAST-MODIFIED:20260209T114730Z
UID:3348-1795737600-1795823999@mariettehehakaya.com
SUMMARY:MUSICA Dementia Concert
DESCRIPTION:Adres:\nVilla Molenenk\nLaan van Borgele 7\nDeventer
URL:https://mariettehehakaya.com/concert/dementia-27112026/
LOCATION:Woonzorg Domus Valuas locatie Villa Molenenk\, Laan van Borgele 7\, Deventer\, 7414 GS
END:VEVENT
BEGIN:VEVENT
DTSTART;VALUE=DATE:20261211
DTEND;VALUE=DATE:20261212
DTSTAMP:20260425T052823
CREATED:20260209T114824Z
LAST-MODIFIED:20260209T114824Z
UID:3350-1796947200-1797033599@mariettehehakaya.com
SUMMARY:MUSICA Dementia Concert
DESCRIPTION:Adres:\nHuis ter Weegen\nRijksstraatweg 158\nWarnsveld
URL:https://mariettehehakaya.com/concert/dementia-11122026/
LOCATION:Woonzorg Domus Valuas locatie – Huis Ter Weegen\, Rijksstraatweg 158\, Warnsveld\, 7231 AK
END:VEVENT
BEGIN:VEVENT
DTSTART;VALUE=DATE:20261211
DTEND;VALUE=DATE:20261212
DTSTAMP:20260425T052823
CREATED:20260209T114916Z
LAST-MODIFIED:20260209T114916Z
UID:3352-1796947200-1797033599@mariettehehakaya.com
SUMMARY:MUSICA Dementia Concert
DESCRIPTION:Adres:\nHuis Welgelegen\nMolenstraat 2\nWarnsveld
URL:https://mariettehehakaya.com/concert/dementia-11122026-warnsveld/
LOCATION:Woonzorg Domus Valuas locatie Huis Welgelegen\, Molenstraat 2\, Warnsveld\, 7231 GG
END:VEVENT
BEGIN:VEVENT
DTSTART;VALUE=DATE:20261213
DTEND;VALUE=DATE:20261214
DTSTAMP:20260425T052823
CREATED:20260209T115008Z
LAST-MODIFIED:20260209T115008Z
UID:3354-1797120000-1797206399@mariettehehakaya.com
SUMMARY:MUSICA Dementia Concert
DESCRIPTION:Adres:\nMartha Flora\nRijksstraatweg 150\nTwello
URL:https://mariettehehakaya.com/concert/dementia-13122026/
LOCATION:Martha Flora Twello Particulier verzorgingstehuis Dementie\, Rijksstraatweg 150\, Twello\, 7391 MX
END:VEVENT
BEGIN:VEVENT
DTSTART;VALUE=DATE:20261226
DTEND;VALUE=DATE:20261227
DTSTAMP:20260425T052823
CREATED:20260209T115118Z
LAST-MODIFIED:20260209T115118Z
UID:3356-1798243200-1798329599@mariettehehakaya.com
SUMMARY:MUSICA Dementia Concert Kerstspecial
DESCRIPTION:Adres:\nHuis ter Weegen\nRijksstraatweg 158\nWarnsveld
URL:https://mariettehehakaya.com/concert/dementia-kerstspecial-26122026/
LOCATION:Woonzorg Domus Valuas locatie – Huis Ter Weegen\, Rijksstraatweg 158\, Warnsveld\, 7231 AK
END:VEVENT
BEGIN:VEVENT
DTSTART;VALUE=DATE:20261226
DTEND;VALUE=DATE:20261227
DTSTAMP:20260425T052823
CREATED:20260209T115214Z
LAST-MODIFIED:20260209T115214Z
UID:3358-1798243200-1798329599@mariettehehakaya.com
SUMMARY:MUSICA Dementia Concert Kerstspecial
DESCRIPTION:Adres:\nHuis Welgelegen\nMolenstraat 2\nWarnsveld
URL:https://mariettehehakaya.com/concert/dementia-kerstspecial-26122026-warnsveld/
LOCATION:Woonzorg Domus Valuas locatie Huis Welgelegen\, Molenstraat 2\, Warnsveld\, 7231 GG
END:VEVENT
BEGIN:VEVENT
DTSTART;VALUE=DATE:20261227
DTEND;VALUE=DATE:20261228
DTSTAMP:20260425T052823
CREATED:20260209T115304Z
LAST-MODIFIED:20260209T115304Z
UID:3360-1798329600-1798415999@mariettehehakaya.com
SUMMARY:MUSICA Dementia Concert
DESCRIPTION:Adres:\nTusselerhof\nTusseler 115\nLochem
URL:https://mariettehehakaya.com/concert/dementia-27122026/
LOCATION:Tusselerhof\, Tusseler 115\, Lochem\, 7241 KD
END:VEVENT
END:VCALENDAR